BEGIN:VCALENDAR
VERSION:2.0
PRODID:-//Crooked River Estate - ECPv6.15.20//NONSGML v1.0//EN
CALSCALE:GREGORIAN
METHOD:PUBLISH
X-WR-CALNAME:Crooked River Estate
X-ORIGINAL-URL:https://crookedriverestate.com.au
X-WR-CALDESC:Events for Crooked River Estate
REFRESH-INTERVAL;VALUE=DURATION:PT1H
X-Robots-Tag:noindex
X-PUBLISHED-TTL:PT1H
BEGIN:VTIMEZONE
TZID:UTC
BEGIN:STANDARD
TZOFFSETFROM:+0000
TZOFFSETTO:+0000
TZNAME:UTC
DTSTART:20250101T000000
END:STANDARD
END:VTIMEZONE
BEGIN:VEVENT
DTSTART;TZID=UTC:20260703T170000
DTEND;TZID=UTC:20260703T200000
DTSTAMP:20260420T123240
CREATED:20260415T024753Z
LAST-MODIFIED:20260415T024753Z
UID:3825-1783098000-1783108800@crookedriverestate.com.au
SUMMARY:Tayvin Martins
DESCRIPTION:Escape the week and embrace the weekend with Kick Back Fridays every Friday at the Cellar Door.
URL:https://crookedriverestate.com.au/event/tayvin-martins-10/
ATTACH;FMTTYPE=image/png:https://crookedriverestate.com.au/wp-content/uploads/2025/10/KB.png
END:VEVENT
END:VCALENDAR